BEGIN:VCALENDAR
VERSION:2.0
PRODID:-//eventon.com NONSGML v1.0//EN
BEGIN:VEVENT
UID:69e607e0ca0c4
DTSTAMP:20260420T140256
DTSTART:20260605T090000Z
DTEND:20260605T180000Z
TZID:Europe/Istanbul
LOCATION:TMMOB Mimarlar Odası İstanbul Büyükkent Şubesi 
SUMMARY:Enerji Kimlik Belgesi (EKB) Uzmanlığı Eğitimi (Haziran)
DESCRIPTION: Ön kaydınızı aşağıdaki KAYIT bölümünden yaptıktan sonra\,  eğitim kaydınızı kesinleştirmek için ön kayıt yaptığınız tarihten itibaren 3 iş günü içerisinde\,  egitimler@mimarist.org KATILIM FORMU doldurup mail atamanız gereklidir.  Katılım Formu (Bilgisayarınıza indirmek için tıklayınız). Eğitim ücretlerini yatırmayan başvurular sistem tarafından otomatik olarak iptal edilecek\,  yapmış olduğunuz ön kayıt silinecektir. Tarih: 5-6-7[..]\nhttps://egitimler.mimarist.org/events/enerji-kimlik-belgesi-ekb-uzmanligi-egitimi-haziran/
URL:https://egitimler.mimarist.org/events/enerji-kimlik-belgesi-ekb-uzmanligi-egitimi-haziran/
END:VEVENT
END:VCALENDAR