BEGIN:VCALENDAR
VERSION:2.0
PRODID:-//eventon.com NONSGML v1.0//EN
BEGIN:VEVENT
UID:69e732cc07011
DTSTAMP:20260421T111820
DTSTART:20251128T090000Z
DTEND:20251128T180000Z
TZID:Europe/Istanbul
LOCATION:TMMOB Mimarlar Odası İstanbul Büyükkent Şubesi 
SUMMARY:Enerji Kimlik Belgesi (EKB) Uzmanlığı Eğitimi (Kasım)
DESCRIPTION: Ön kaydınızı aşağıdaki KAYIT bölümünden yaptıktan sonra\,  eğitim kaydınızı kesinleştirmek için ön kayıt yaptığınız tarihten itibaren 3 iş günü içerisinde\,  egitimler@mimarist.org KATILIM FORMU doldurup mail atamanız gereklidir.  Katılım Formu (Bilgisayarınıza indirmek için tıklayınız). Eğitim ücretlerini yatırmayan başvurular sistem tarafından otomatik olarak iptal edilecek\,  yapmış olduğunuz ön kayıt silinecektir. Tarih: 28-29-30[..]\nhttps://egitimler.mimarist.org/events/enerji-kimlik-belgesi-ekb-uzmanligi-egitimi-kasim/
URL:https://egitimler.mimarist.org/events/enerji-kimlik-belgesi-ekb-uzmanligi-egitimi-kasim/
END:VEVENT
END:VCALENDAR