BEGIN:VCALENDAR
VERSION:2.0
PRODID:-//eventon.com NONSGML v1.0//EN
BEGIN:VEVENT
UID:69e6236a87e88
DTSTAMP:20260420T160026
DTSTART:20251115T100000Z
DTEND:20251115T100000Z
TZID:Europe/Istanbul
LOCATION:TMMOB Mimarlar Odası İstanbul Büyükkent Şubesi 
SUMMARY:Bilirkişilik Temel Eğitimi (15 Kasım )
DESCRIPTION: Eğitim Bilgileri Tarih:  15-16-17-18 Kasım  2025 ( Cumartesi &#8211; Pazar &#8211; Pazartesi &#8211; Salı ) Saat:10:00 –16: 50 Süre ve Kredi: 4 gün / 24 saat / 15 kredi Eğitim Yeri: Mimarlar Odası İstanbul Büyükkent Şubesi Kemankeş Cad. No: 31\,  Karaköy – Beyoğlu – İstanbul Hazırlayan Kurum: TMMOB SMGM Program[..]\nhttps://egitimler.mimarist.org/events/bilirkisilik-temel-egitimi-15-kasim/
URL:https://egitimler.mimarist.org/events/bilirkisilik-temel-egitimi-15-kasim/
END:VEVENT
END:VCALENDAR