BEGIN:VCALENDAR
VERSION:2.0
PRODID:-//eventon.com NONSGML v1.0//EN
BEGIN:VEVENT
UID:69e7333b5678c
DTSTAMP:20260421T112011
DTSTART:20250918T100000Z
DTEND:20250918T100000Z
TZID:Europe/Istanbul
LOCATION:TMMOB Mimarlar Odası İstanbul Büyükkent Şubesi 
SUMMARY:Bilirkişilik Temel Eğitimi (18 Eylül)
DESCRIPTION: Eğitim Bilgileri Tarih:  18-19-20-21 Eylül 2025 ( Perşembe &#8211; Cuma &#8211; Cumartesi &#8211; Pazar) Saat:10:00 –16: 50 Süre ve Kredi: 4 gün / 24 saat / 15 kredi Eğitim Yeri: Mimarlar Odası İstanbul Büyükkent Şubesi Kemankeş Cad. No: 31\,  Karaköy – Beyoğlu – İstanbul Hazırlayan Kurum: TMMOB SMGM Program Kurgusu:[..]\nhttps://egitimler.mimarist.org/events/bilirkisilik-temel-egitimi-18-eylul/
URL:https://egitimler.mimarist.org/events/bilirkisilik-temel-egitimi-18-eylul/
END:VEVENT
END:VCALENDAR